Workbook

Sheet Mall att fylla i
B1: Intäkter och kostnader
A5: Verksamhet:
A6: Tannefors församlingsråd 2027 ***Förslag: ***
A7: Aktivitet/Vad | B7: Tidplan | C7: Ansvarig | D7: Konto | E7: Kst | F7: V-het | G7: Ev projekt | H7: Belopp
A8: =[1]Församlingsråd!A8 -> Förbrukningsmaterial | B8: =[1]Församlingsråd!B8 -> Hela året | C8: =[1]Församlingsråd!C8 -> Ordf | D8: =[1]Församlingsråd!D8 -> 5460 | E8: =[1]Församlingsråd!E8 -> 1031 | F8: =[1]Församlingsråd!F8 -> 571 | G8: =[1]Församlingsråd!G8 -> 0 | H8: =[1]Församlingsråd!H8 -> -1000
A9: =[1]Församlingsråd!A9 -> Biblar, psalmböcker o övriga böcker | B9: =[1]Församlingsråd!B9 -> Hela året | C9: =[1]Församlingsråd!C9 -> Ordf | D9: =[1]Församlingsråd!D9 -> 5462 | E9: =[1]Församlingsråd!E9 -> 1031 | F9: =[1]Församlingsråd!F9 -> 571 | G9: =[1]Församlingsråd!G9 -> 0 | H9: =[1]Församlingsråd!H9 -> -1500
A10: =[1]Församlingsråd!A10 -> Ljus och blommor | B10: =[1]Församlingsråd!B10 -> Hela året | C10: =[1]Församlingsråd!C10 -> Ordf | D10: =[1]Församlingsråd!D10 -> 5464 | E10: =[1]Församlingsråd!E10 -> 1031 | F10: =[1]Församlingsråd!F10 -> 571 | G10: =[1]Församlingsråd!G10 -> 0 | H10: =[1]Församlingsråd!H10 -> -1000
A11: =[1]Församlingsråd!A11 -> Livsmedel | B11: =[1]Församlingsråd!B11 -> Hela året | C11: =[1]Församlingsråd!C11 -> Ordf | D11: =[1]Församlingsråd!D11 -> 5465 | E11: =[1]Församlingsråd!E11 -> 1031 | F11: =[1]Församlingsråd!F11 -> 571 | G11: =[1]Församlingsråd!G11 -> 0 | H11: =[1]Församlingsråd!H11 -> -3500
A12: =[1]Församlingsråd!A12 -> Representation | B12: =[1]Församlingsråd!B12 -> Hela året | C12: =[1]Församlingsråd!C12 -> Ordf | D12: =[1]Församlingsråd!D12 -> 6070 | E12: =[1]Församlingsråd!E12 -> 1031 | F12: =[1]Församlingsråd!F12 -> 571 | G12: =[1]Församlingsråd!G12 -> 0 | H12: =[1]Församlingsråd!H12 -> -1000
A13: =[1]Församlingsråd!A13 -> Medlemsavgifter | B13: =[1]Församlingsråd!B13 -> Hela året | C13: =[1]Församlingsråd!C13 -> Ordf | D13: =[1]Församlingsråd!D13 -> 6980 | E13: =[1]Församlingsråd!E13 -> 1031 | F13: =[1]Församlingsråd!F13 -> 571 | G13: =[1]Församlingsråd!G13 -> 0 | H13: =[1]Församlingsråd!H13 -> -2000
A14: =[1]Församlingsråd!A14 -> Arvoden verkställande organ | B14: =[1]Församlingsråd!B14 -> Hela året | C14: =[1]Församlingsråd!C14 -> Ordf | D14: =[1]Församlingsråd!D14 -> 7140 | E14: =[1]Församlingsråd!E14 -> 1031 | F14: =[1]Församlingsråd!F14 -> 571 | G14: =[1]Församlingsråd!G14 -> 0 | H14: -33000
A15: =[1]Församlingsråd!A15 -> Arbetsgivaravgifter | B15: =[1]Församlingsråd!B15 -> Hela året | C15: =[1]Församlingsråd!C15 -> Ordf | D15: =[1]Församlingsråd!D15 -> 7510 | E15: =[1]Församlingsråd!E15 -> 1031 | F15: =[1]Församlingsråd!F15 -> 571 | G15: =[1]Församlingsråd!G15 -> 0 | H15: =[1]Församlingsråd!H15 -> -6000
A16: =[1]Församlingsråd!A16 -> Utbildning förtroendevalda 500kr x9ledamöter | B16: =[1]Församlingsråd!B16 -> Hela året | C16: =[1]Församlingsråd!C16 -> Ordf | D16: =[1]Församlingsråd!D16 -> 7612 | E16: =[1]Församlingsråd!E16 -> 1000 | F16: =[1]Församlingsråd!F16 -> 571 | G16: =[1]Församlingsråd!G16 -> 0 | H16: =[1]Församlingsråd!H16 -> -4500
A20: Summerad nettobudget | H20: =SUM(H8:H19) -> -53500

Sheet Exempel
B1: Intäkter och kostnader
B4: OBS! Detta är ett exempel. För en tom mall se flik två,
A5: Verksamhet: | B5: Mall att fyll i, ner till vänster i bilden
A6: Konfirmandverksamhet
A8: Aktivietet/Vad | B8: Tidplan | C8: Ansvarig | D8: Konto | E8: Kst | F8: V-het | G8: Ev projekt | H8: Belopp
A9: Ej specificerad verksamhet | B9: hela året | C9: Stina | D9: 3670 | E9: 1040 | F9: 170 | G9: 0023 | H9: 2000
D10: 5410 | E10: 1040 | F10: 170 | H10: -1500
D11: 5465 | E11: 1040 | F11: 170 | H11: -5000
A12: Läger Tyskland | B12: sommaren | C12: Stina | D12: 3670 | E12: 1040 | F12: 170 | H12: 40000
A13: Läger Tyskland | D13: 6920 | E13: 1040 | F13: 170 | H13: -60000
A32: Summerad nettobudget | H32: =SUM(H9:H31) -> -24500
A35: Så här fungerar mallen
A36: Allmänt om mallen
A37: Gör en blankett för varje verksamhet, d v s en för Gudstjänster och kyrkliga handlingar och en för Musik och en för Barnverksamhet os v
A38: Blåa fält är obligatoriska att fylla i
A40: Kolumner
A41: Aktivitet - Ange aktivitet/vad som avses. Om det inte är en specificerad aktivitet utan löpande verksamhet skriv detta i fältet.
A42: Tidplan - kan vara vårtermin, månad eller ett datum
A43: Konto - Skriv in intäkts- eller kostnadskonto (se baskontolexikon).
A44: Ev projekt - För de verksamheter där budgetering sker på projekt ska detta anges, exempelvis Gosskören
A45: Belopp - Intäkter skrivs med enbart belopp, d v s utan tecken
A46: Belopp - Kostnader skrivs in med minus ett minus framför beloppet
